BEGIN:VCALENDAR
VERSION:2.0
PRODID:-//North Counties Christian Sports Fellowship League - ECPv6.15.20//NONSGML v1.0//EN
CALSCALE:GREGORIAN
METHOD:PUBLISH
X-ORIGINAL-URL:https://nccsfl.org
X-WR-CALDESC:Events for North Counties Christian Sports Fellowship League
REFRESH-INTERVAL;VALUE=DURATION:PT1H
X-Robots-Tag:noindex
X-PUBLISHED-TTL:PT1H
BEGIN:VTIMEZONE
TZID:America/Vancouver
BEGIN:DAYLIGHT
TZOFFSETFROM:-0800
TZOFFSETTO:-0700
TZNAME:PDT
DTSTART:20230312T100000
END:DAYLIGHT
BEGIN:STANDARD
TZOFFSETFROM:-0700
TZOFFSETTO:-0800
TZNAME:PST
DTSTART:20231105T090000
END:STANDARD
BEGIN:DAYLIGHT
TZOFFSETFROM:-0800
TZOFFSETTO:-0700
TZNAME:PDT
DTSTART:20240310T100000
END:DAYLIGHT
BEGIN:STANDARD
TZOFFSETFROM:-0700
TZOFFSETTO:-0800
TZNAME:PST
DTSTART:20241103T090000
END:STANDARD
BEGIN:DAYLIGHT
TZOFFSETFROM:-0800
TZOFFSETTO:-0700
TZNAME:PDT
DTSTART:20250309T100000
END:DAYLIGHT
BEGIN:STANDARD
TZOFFSETFROM:-0700
TZOFFSETTO:-0800
TZNAME:PST
DTSTART:20251102T090000
END:STANDARD
END:VTIMEZONE
BEGIN:VEVENT
DTSTART;TZID=America/Vancouver:20240411T183000
DTEND;TZID=America/Vancouver:20240411T193000
DTSTAMP:20260424T103044
CREATED:20240303T221105Z
LAST-MODIFIED:20240404T041603Z
UID:1607-1712860200-1712863800@nccsfl.org
SUMMARY:2024 Softball League Meeting #2
DESCRIPTION:RECAP from League Meeting #1  2/29 \n\nnewly revised rules were discussed and approved and will be posted on the website.\ngames will be at Jackson\, Everett (T & Th) and Marysville Pilchuck High School (Th only)\nbathrooms at Jackson have been fixed!\nnon-league games will start May 7-16 (single games)\nleague games will start May 21st (double header)\nTournament will be July 27th at MP\nlooks like we will have 12 teams. 4 will play Tues at Jackson\,  4 will play Thursday Jackson and 4 Thursday MP.\n$100 team deposit due on or by April 11th (in person coaches/ commissioner meeting)\nremaining $400 due on or by teams first game.\nfollow NCCSFL for social media updates and alerts.\nhome team of the 1st game sets up the fields (lines\, brings the mat out\, supplies game ball\, fixes holes at home or whatever needs to happen)\nhome team of the 2nd team cleans up the field (rinses mats\, puts them away\, keeps the game balls or puts them in the locker and reports the scores for both games to scores@nccsfl.org )\n\nPlease plan to attend or send someone to pick up your stuff and turn in your deposit.
URL:https://nccsfl.org/event/2024-softball-league-meeting-2/
LOCATION:Calvary Everett\, 1616 Pacific Ave\, Everett\, WA\, 98201\, United States
CATEGORIES:League Meeting,Softball
END:VEVENT
END:VCALENDAR