BEGIN:VCALENDAR
VERSION:2.0
PRODID:-//North Counties Christian Sports Fellowship League - ECPv6.15.20//NONSGML v1.0//EN
CALSCALE:GREGORIAN
METHOD:PUBLISH
X-WR-CALNAME:North Counties Christian Sports Fellowship League
X-ORIGINAL-URL:https://nccsfl.org
X-WR-CALDESC:Events for North Counties Christian Sports Fellowship League
REFRESH-INTERVAL;VALUE=DURATION:PT1H
X-Robots-Tag:noindex
X-PUBLISHED-TTL:PT1H
BEGIN:VTIMEZONE
TZID:America/Vancouver
BEGIN:DAYLIGHT
TZOFFSETFROM:-0800
TZOFFSETTO:-0700
TZNAME:PDT
DTSTART:20110313T100000
END:DAYLIGHT
BEGIN:STANDARD
TZOFFSETFROM:-0700
TZOFFSETTO:-0800
TZNAME:PST
DTSTART:20111106T090000
END:STANDARD
BEGIN:DAYLIGHT
TZOFFSETFROM:-0800
TZOFFSETTO:-0700
TZNAME:PDT
DTSTART:20120311T100000
END:DAYLIGHT
BEGIN:STANDARD
TZOFFSETFROM:-0700
TZOFFSETTO:-0800
TZNAME:PST
DTSTART:20121104T090000
END:STANDARD
BEGIN:DAYLIGHT
TZOFFSETFROM:-0800
TZOFFSETTO:-0700
TZNAME:PDT
DTSTART:20130310T100000
END:DAYLIGHT
BEGIN:STANDARD
TZOFFSETFROM:-0700
TZOFFSETTO:-0800
TZNAME:PST
DTSTART:20131103T090000
END:STANDARD
BEGIN:DAYLIGHT
TZOFFSETFROM:-0800
TZOFFSETTO:-0700
TZNAME:PDT
DTSTART:20140309T100000
END:DAYLIGHT
BEGIN:STANDARD
TZOFFSETFROM:-0700
TZOFFSETTO:-0800
TZNAME:PST
DTSTART:20141102T090000
END:STANDARD
BEGIN:DAYLIGHT
TZOFFSETFROM:-0800
TZOFFSETTO:-0700
TZNAME:PDT
DTSTART:20150308T100000
END:DAYLIGHT
BEGIN:STANDARD
TZOFFSETFROM:-0700
TZOFFSETTO:-0800
TZNAME:PST
DTSTART:20151101T090000
END:STANDARD
BEGIN:DAYLIGHT
TZOFFSETFROM:-0800
TZOFFSETTO:-0700
TZNAME:PDT
DTSTART:20160313T100000
END:DAYLIGHT
BEGIN:STANDARD
TZOFFSETFROM:-0700
TZOFFSETTO:-0800
TZNAME:PST
DTSTART:20161106T090000
END:STANDARD
BEGIN:DAYLIGHT
TZOFFSETFROM:-0800
TZOFFSETTO:-0700
TZNAME:PDT
DTSTART:20170312T100000
END:DAYLIGHT
BEGIN:STANDARD
TZOFFSETFROM:-0700
TZOFFSETTO:-0800
TZNAME:PST
DTSTART:20171105T090000
END:STANDARD
BEGIN:DAYLIGHT
TZOFFSETFROM:-0800
TZOFFSETTO:-0700
TZNAME:PDT
DTSTART:20180311T100000
END:DAYLIGHT
BEGIN:STANDARD
TZOFFSETFROM:-0700
TZOFFSETTO:-0800
TZNAME:PST
DTSTART:20181104T090000
END:STANDARD
END:VTIMEZONE
BEGIN:VEVENT
DTSTART;TZID=America/Vancouver:20170203T193000
DTEND;TZID=America/Vancouver:20170203T213000
DTSTAMP:20260422T005200
CREATED:20170120T064207Z
LAST-MODIFIED:20170120T064626Z
UID:543-1486150200-1486157400@nccsfl.org
SUMMARY:NCCSFL Dodgeball Night #2 2.3.17 7:30-9:30pm
DESCRIPTION:The NCCSFL is excited to host our second Dodgeball Night! \nWe’re missing the fellowship of softball season! So…. \nLace up your sneakers\, stretch those muscles out\, grab your family and come up to Arlington Free Methodist Church (gym) on Friday\, February 3rd\, 2017 at 7:30pm for some good old fashioned dodgeball! We’ll have some water available\, but be sure to eat dinner before you come! \nThis event is open to all players\, coaches\, commissioners\, committee members\, and guests (friends and family of the NCCSFL) are also welcome. Please note that a signed waiver will be required for all participants (under 18 years old requires a parent/ guardian signature). Dodgeball night is FREE\, but if you wish to give a donation\, it will go into the Special Events and Outreach fund for future fun events! \nCan’t wait to see everyone there! \nQuestions? Contact the NCCSFL Events & Outreach Committee
URL:https://nccsfl.org/event/nccsfl-dodgeball-night-2-2-3-17-730-930pm/
LOCATION:Arlington Free Methodist Church\, 730 East Highland Dr. \, Arlington \, WA\, 98223\, United States
END:VEVENT
BEGIN:VEVENT
DTSTART;TZID=America/Vancouver:20161104T193000
DTEND;TZID=America/Vancouver:20161104T213000
DTSTAMP:20260422T005200
CREATED:20161023T073344Z
LAST-MODIFIED:20161023T155033Z
UID:523-1478287800-1478295000@nccsfl.org
SUMMARY:NCCSFL Dodgeball Night
DESCRIPTION:The NCCSFL is excited to host our very first Dodgeball Night! \nWe’re missing the fellowship of softball season! So…. \nLace up your sneakers\, stretch those muscles out\, grab your family and come up to Arlington Free Methodist Church (gym) on Friday\, November 4th\, 2016 at 7:30pm for some good old fashioned dodgeball! We’ll have some water available\, but be sure to eat dinner before you come! \nRSVP on Facebook. \nThis event is open to all players\, coaches\, commissioners\, committee members\, friends and family of the NCCSFL. Dodgeball night is FREE\, but if you wish to give a donation\, it will go into the Special Events and Outreach fund for future fun events! \nCan’t wait to see everyone there! \nQuestions? Contact the NCCSFL Events & Outreach Committee
URL:https://nccsfl.org/event/nccsfl-dodgeball-night/
LOCATION:Arlington Free Methodist Church\, 730 East Highland Dr. \, Arlington \, WA\, 98223\, United States
CATEGORIES:Community Event
ATTACH;FMTTYPE=image/jpeg:https://nccsfl.org/wp-content/uploads/dodgeball.jpeg
END:VEVENT
BEGIN:VEVENT
DTSTART;TZID=America/Vancouver:20161022T090000
DTEND;TZID=America/Vancouver:20161022T110000
DTSTAMP:20260422T005200
CREATED:20161019T232621Z
LAST-MODIFIED:20161019T232712Z
UID:520-1477126800-1477134000@nccsfl.org
SUMMARY:Post-Season Work Party @ Klein Field
DESCRIPTION:NCCSFL Coaches and Players\, remember this Saturday at 9am\, we have a Work Party at Klein Field in north Marysville. General maintenance and making the infields larger. All the help will be appreciated!
URL:https://nccsfl.org/event/post-season-2016-work-party-klein-field/
LOCATION:Klein Fields\, 6101 152nd St Ne\, Marysville\, WA\, 98271\, United States
CATEGORIES:Work Party
END:VEVENT
BEGIN:VEVENT
DTSTART;VALUE=DATE:20160928
DTEND;VALUE=DATE:20160929
DTSTAMP:20260422T005200
CREATED:20160926T153147Z
LAST-MODIFIED:20160926T153147Z
UID:515-1475020800-1475107199@nccsfl.org
SUMMARY:See You At The Pole 2016
DESCRIPTION:WE CRY OUT\nA generation seeking Him!\n—Psalm 24:3–6\nGlobal Week of Student Prayer\nSunday\, September 25 through Saturday\, October 1\, 2016 \nFor the last 25 years\, See You at the Pole has been about one simple act—prayer. SYATP is still about students uniting themselves in prayer before God interceding for their generation. \nThere are two opportunities to unite in prayer with your friends:\nDAY: SEE YOU AT THE POLE day is on Wednesday\, September 28\, at 7:00 a.m. local time. All around the globe\, in every time zone\, students will be gathering at their flagpoles\, praying for their school\, friends\, families\, churches\, and communities. SEE YOU AT THE POLE is a day committed to global unity in Christ and prayer for your generation.\nWEEK: The GLOBAL WEEK OF STUDENT PRAYER (Sunday\, September 25 through Saturday\, October 1) encourages students to find new and unique ways\, places\, and times to pray throughout the week. Whether you attend PUBLIC SCHOOL\, PRIVATE SCHOOL\, or HOME SCHOOL\, gather your friends wherever and whenever and pray! The GLOBAL WEEK OF STUDENT PRAYER is dedicated to prayer and launching your on-campus Bible clubs\, prayer strategies\, and student ministries.
URL:https://nccsfl.org/event/see-you-at-the-pole-2016/
LOCATION:WA
CATEGORIES:Community Event
ATTACH;FMTTYPE=image/jpeg:https://nccsfl.org/wp-content/uploads/syatp.jpg
END:VEVENT
BEGIN:VEVENT
DTSTART;TZID=America/Vancouver:20160807T150000
DTEND;TZID=America/Vancouver:20160807T170000
DTSTAMP:20260422T005200
CREATED:20160731T141601Z
LAST-MODIFIED:20160731T141601Z
UID:488-1470582000-1470589200@nccsfl.org
SUMMARY:Memorial Service for Keith Millett @ Smokey Point Community Church
DESCRIPTION:Keith Millett\nWe are grieved and saddened to inform you that the ‪‎NCCSFL‬ family and friends lost Keith Millett (from SPC-D) to a tragic drowning on Thursday\, July 28\, 2016. Our hearts and prayers are with the Millett family\, and we pray for God’s peace to them during this difficult time. We will miss his infectious smile and fellowship in the league. \nMemorial Service for Keith Millett is August 7th at 3pm @ Smokey Point Community Church
URL:https://nccsfl.org/event/memorial-service-for-keith-millett-smokey-point-community-church/
LOCATION:Smokey Point Community Church\, 17721 Smokey Point Blvd\, Arlington\, WA\, 98223\, United States
CATEGORIES:Community Event
ATTACH;FMTTYPE=image/jpeg:https://nccsfl.org/wp-content/uploads/KeithMillett.jpg
END:VEVENT
BEGIN:VEVENT
DTSTART;VALUE=DATE:20160804
DTEND;VALUE=DATE:20160807
DTSTAMP:20260422T005200
CREATED:20160425T004825Z
LAST-MODIFIED:20160726T192439Z
UID:399-1470268800-1470527999@nccsfl.org
SUMMARY:2016 Softball Tournament & BBQ
DESCRIPTION:The 2016 Softball BBQ Tournament Weekend is August 4-6. Check the Tournament page for schedule and Team BBQ/Picnic List. BBQ is high noon on Saturday\, Aug. 6 \n\nEveryone will play on Thursday so check the schedule and be sure to check for umpire responsibilities.\nWinners will play on Friday.\nRules are the same as league except no run limit per inning and 10 run rule after 5 innings. Home run rule is still the one-up rule.\nLunch will be at noon so please stay and enjoy the food and fellowship.
URL:https://nccsfl.org/event/2016-softball-tournament-bbq/
LOCATION:Twin Rivers County Park\, Twin Rivers County Park\, Highway 530\, Arington\, WA\, 98223\, United States
CATEGORIES:Softball
ATTACH;FMTTYPE=image/jpeg:https://nccsfl.org/wp-content/uploads/550975_393920237328645_1144290246_n.jpg
END:VEVENT
BEGIN:VEVENT
DTSTART;VALUE=DATE:20160508
DTEND;VALUE=DATE:20160509
DTSTAMP:20260422T005200
CREATED:20160505T141554Z
LAST-MODIFIED:20160505T141614Z
UID:418-1462665600-1462751999@nccsfl.org
SUMMARY:Mother's Day
DESCRIPTION:Go celebrate with your mom!
URL:https://nccsfl.org/event/2016-mothers-day/
LOCATION:WA
CATEGORIES:Holiday
END:VEVENT
BEGIN:VEVENT
DTSTART;TZID=America/Vancouver:20160503T180000
DTEND;TZID=America/Vancouver:20160503T210000
DTSTAMP:20260422T005200
CREATED:20160425T004525Z
LAST-MODIFIED:20160425T004525Z
UID:398-1462298400-1462309200@nccsfl.org
SUMMARY:1st Games of the 2016 Season
DESCRIPTION:Softball Season starts today! 1st game starts at 6:00 PM and 2nd at approx. 7:30 PM! Make sure to check your umpire assignments and team schedules on the 2016 Softball Schedule
URL:https://nccsfl.org/event/1st-games-of-the-2016-season/
LOCATION:Twin Rivers County Park\, Twin Rivers County Park\, Highway 530\, Arington\, WA\, 98223\, United States
CATEGORIES:Softball
END:VEVENT
BEGIN:VEVENT
DTSTART;TZID=America/Vancouver:20160430T090000
DTEND;TZID=America/Vancouver:20160430T110000
DTSTAMP:20260422T005200
CREATED:20160420T223434Z
LAST-MODIFIED:20160425T003818Z
UID:383-1462006800-1462014000@nccsfl.org
SUMMARY:*CANCELED* League Field Maintenance Day 2 at Klein Fields
DESCRIPTION:Fields need a lot of work to get them ready for the season! The more people that can show up to help\, the faster it goes!
URL:https://nccsfl.org/event/league-field-maintenance-day-2-at-klein-fields/
LOCATION:Klein Fields\, 6101 152nd St Ne\, Marysville\, WA\, 98271\, United States
CATEGORIES:Work Party
ATTACH;FMTTYPE=image/jpeg:https://nccsfl.org/wp-content/uploads/cropped-header_plate-1.jpg
END:VEVENT
BEGIN:VEVENT
DTSTART;TZID=America/Vancouver:20160423T090000
DTEND;TZID=America/Vancouver:20160423T110000
DTSTAMP:20260422T005200
CREATED:20160420T223336Z
LAST-MODIFIED:20160420T223336Z
UID:382-1461402000-1461409200@nccsfl.org
SUMMARY:League Field Maintenance Day 1 at Klein Fields
DESCRIPTION:Fields need a lot of work to get them ready for the season! The more people that can show up to help\, the faster it goes! \nRSVP on Facebook: https://www.facebook.com/events/1722542971323509/
URL:https://nccsfl.org/event/league-field-maintenance-day-1-at-klein-fields/
LOCATION:Klein Fields\, 6101 152nd St Ne\, Marysville\, WA\, 98271\, United States
CATEGORIES:Work Party
ATTACH;FMTTYPE=image/jpeg:https://nccsfl.org/wp-content/uploads/cropped-header_plate-1.jpg
END:VEVENT
BEGIN:VEVENT
DTSTART;TZID=America/Vancouver:20160206T080000
DTEND;TZID=America/Vancouver:20160206T093000
DTSTAMP:20260422T005200
CREATED:20160202T173501Z
LAST-MODIFIED:20160202T173626Z
UID:367-1454745600-1454751000@nccsfl.org
SUMMARY:2016 Softball Commissioner Meeting
DESCRIPTION:2016 is here and so means softball around the corner! Commissioners meeting will be held Saturday\, Feb. 6 @ 8am at Marysville Haggen’s. Coaches are also welcome to join and discuss ideas for the upcoming season.
URL:https://nccsfl.org/event/2016-softball-comm-meeting/
LOCATION:Marysville Haggen\, 3711 88th St NE\, Marysville\, WA\, 98270\, United States
CATEGORIES:League Meeting
END:VEVENT
BEGIN:VEVENT
DTSTART;TZID=America/Vancouver:20151120T190000
DTEND;TZID=America/Vancouver:20151120T203000
DTSTAMP:20260422T005200
CREATED:20151119T165832Z
LAST-MODIFIED:20151119T165832Z
UID:365-1448046000-1448051400@nccsfl.org
SUMMARY:NCCSFL 2015 Post-Season Meeting
DESCRIPTION:Please bring feedback about this past season and any new ideas that we can look forward to in the 2016 season!
URL:https://nccsfl.org/event/nccsfl-2015-post-season-meeting/
LOCATION:Arlington Gospel Hall\, 323 S Stillaguamish Ave\, Arlington\, WA\, 98223\, United States
CATEGORIES:League Meeting
END:VEVENT
BEGIN:VEVENT
DTSTART;VALUE=DATE:20150730
DTEND;VALUE=DATE:20150802
DTSTAMP:20260422T005200
CREATED:20150726T135024Z
LAST-MODIFIED:20150726T135024Z
UID:362-1438214400-1438473599@nccsfl.org
SUMMARY:2015 BBQ Softball Tournament
DESCRIPTION:More information and bracket schedule\, go to the Softball Tournament page
URL:https://nccsfl.org/event/2015-bbq-softball-tournament/
LOCATION:Twin Rivers County Park\, Twin Rivers County Park\, Highway 530\, Arington\, WA\, 98223\, United States
CATEGORIES:Softball
END:VEVENT
BEGIN:VEVENT
DTSTART;TZID=America/Vancouver:20150428T180000
DTEND;TZID=America/Vancouver:20150428T210000
DTSTAMP:20260422T005200
CREATED:20150423T153029Z
LAST-MODIFIED:20150423T153029Z
UID:310-1430244000-1430254800@nccsfl.org
SUMMARY:2015 Softball Season Starts!
DESCRIPTION:The 2015 Softball Season starts Today! \nCheck out the schedule http://www.nccsfl.org/2015/04/first-two-weeks-of-the-schedule/
URL:https://nccsfl.org/event/2015-softball-season-starts/
LOCATION:Twin Rivers County Park\, Twin Rivers County Park\, Highway 530\, Arington\, WA\, 98223\, United States
CATEGORIES:Softball
END:VEVENT
BEGIN:VEVENT
DTSTART;TZID=America/Vancouver:20150425T090000
DTEND;TZID=America/Vancouver:20150425T110000
DTSTAMP:20260422T005200
CREATED:20150423T152513Z
LAST-MODIFIED:20150423T152513Z
UID:309-1429952400-1429959600@nccsfl.org
SUMMARY:Work Party / Umpire Clinic @ Klein Fields 9am
DESCRIPTION:We have a Softball Work Party to help clean up the fields at Klein Field. So bring your tools and gloves to help out! \nThere is also an Umpire Clinic after the work party. The more help we have\, the faster it gets done.
URL:https://nccsfl.org/event/work-party-umpire-clinic-klein-fields-9am/
LOCATION:Klein Fields\, 6101 152nd St Ne\, Marysville\, WA\, 98271\, United States
CATEGORIES:Work Party
END:VEVENT
BEGIN:VEVENT
DTSTART;TZID=America/Vancouver:20150321T090000
DTEND;TZID=America/Vancouver:20150321T103000
DTSTAMP:20260422T005200
CREATED:20150308T220855Z
LAST-MODIFIED:20150314T221041Z
UID:300-1426928400-1426933800@nccsfl.org
SUMMARY:2015 Softball Meeting #2
DESCRIPTION:Next league meeting on March 21st at 9:00 @ Gospel Hall. League fees or at least $100.00 non-refundable deposit are due so the schedule can start being worked on. If you know of other teams wanting to play\, please let them know also. We have room for a few teams. See you there. \n– League starts April 28th\n– Need to turn in waivers prior to first game.\n– League fees are $500\n– Have $100 deposit by March 21st. If no deposit by the 21st then the league fees becomes $550 \nCan mail in league fees:\nNCCSFL\nPO Box 505\nArlington\, WA 98223 \nDownload the Softball League Forms at http://www.nccsfl.org/softball/#forms \n  \nRSVP on Facebook
URL:https://nccsfl.org/event/2015-softball-meeting-2/
LOCATION:Arlington Gospel Hall\, 323 S Stillaguamish Ave\, Arlington\, WA\, 98223\, United States
CATEGORIES:League Meeting
END:VEVENT
BEGIN:VEVENT
DTSTART;TZID=America/Vancouver:20150207T090000
DTEND;TZID=America/Vancouver:20150207T104500
DTSTAMP:20260422T005200
CREATED:20150130T141234Z
LAST-MODIFIED:20150130T143401Z
UID:291-1423299600-1423305900@nccsfl.org
SUMMARY:2015 Softball Meeting #1
DESCRIPTION:2015 is here.. and that means Softball is around the corner! Our first league meeting will be on Saturday\,  February 7\, 2015 at the Arlington Gospel Hall at 9:00 A.M. Hope to see everyone there\, please spread the word. \nDownload the Softball League Forms at http://www.nccsfl.org/softball/#forms \n  \nRSVP on Facebook
URL:https://nccsfl.org/event/2015-softball-meeting-1/
LOCATION:Arlington Gospel Hall\, 323 S Stillaguamish Ave\, Arlington\, WA\, 98223\, United States
CATEGORIES:League Meeting
END:VEVENT
BEGIN:VEVENT
DTSTART;TZID=America/Vancouver:20141010T190000
DTEND;TZID=America/Vancouver:20141010T213000
DTSTAMP:20260422T005200
CREATED:20141010T124622Z
LAST-MODIFIED:20141010T125038Z
UID:288-1412967600-1412976600@nccsfl.org
SUMMARY:FREE Concert with Ryan Stevenson
DESCRIPTION:Join us for a FREE EVENT with recording artist Ryan Stevenson and evangelist Christian Holst \nEspresso\, Italian sodas\, and refreshments available! \nHosted by Marysville First Baptist
URL:https://nccsfl.org/event/free-concert-with-ryan-stevenson/
LOCATION:Marysville First Baptist\, 4011 81st Pl NE\, Marysville\, WA\, 98270\, United States
CATEGORIES:Community Event
END:VEVENT
BEGIN:VEVENT
DTSTART;TZID=America/Vancouver:20140906T090000
DTEND;TZID=America/Vancouver:20140906T104500
DTSTAMP:20260422T005200
CREATED:20140904T171655Z
LAST-MODIFIED:20140904T171655Z
UID:282-1409994000-1410000300@nccsfl.org
SUMMARY:Post-Season 2014 Meeting
DESCRIPTION:Post Season Meeting: Saturday September 6\, 2014 at 9:00 A.M. at Arlington Gospel Hall. Hope to see you there. Bring ideas and concerns for improving our league. Please let others know so we can have as many people as possible. 
URL:https://nccsfl.org/event/post-season-2014-meeting/
LOCATION:Arlington Gospel Hall\, 323 S Stillaguamish Ave\, Arlington\, WA\, 98223\, United States
CATEGORIES:Softball
END:VEVENT
BEGIN:VEVENT
DTSTART;TZID=America/Vancouver:20140731T180000
DTEND;TZID=America/Vancouver:20140802T193000
DTSTAMP:20260422T005200
CREATED:20140504T194108Z
LAST-MODIFIED:20140504T194108Z
UID:188-1406829600-1407007800@nccsfl.org
SUMMARY:2014 BBQ Softball Tournament
DESCRIPTION:More information to come later
URL:https://nccsfl.org/event/2014-bbq-softball-tournament/
LOCATION:Twin Rivers County Park\, Twin Rivers County Park\, Highway 530\, Arington\, WA\, 98223\, United States
CATEGORIES:Softball
END:VEVENT
BEGIN:VEVENT
DTSTART;TZID=America/Vancouver:20140628T100000
DTEND;TZID=America/Vancouver:20140628T160000
DTSTAMP:20260422T005200
CREATED:20140504T192951Z
LAST-MODIFIED:20140609T001248Z
UID:184-1403949600-1403971200@nccsfl.org
SUMMARY:2014 Softball All-Star Game
DESCRIPTION:The 2014 All-Star Game (ASG) is Saturday\, June 28\, 2014 at the Twin Rivers County Park in Arlington. More information to come as we get closer to the event \nRSVP on Facebook!
URL:https://nccsfl.org/event/2014-softball-all-star-game/
LOCATION:Twin Rivers County Park\, Twin Rivers County Park\, Highway 530\, Arington\, WA\, 98223\, United States
CATEGORIES:Community Event,Softball
END:VEVENT
BEGIN:VEVENT
DTSTART;VALUE=DATE:20140501
DTEND;VALUE=DATE:20140502
DTSTAMP:20260422T005200
CREATED:20140428T033133Z
LAST-MODIFIED:20140428T033242Z
UID:169-1398902400-1398988799@nccsfl.org
SUMMARY:National Day of Prayer
DESCRIPTION:Today is National Day of Prayer – One Voice\, United in Prayer \nTo further highlight our theme\, we’ve chosen Romans 15:6 as our Scripture for this year:  “So that with one mind and one voice you may glorify the God and Father of our Lord Jesus Christ.” \nEarly Morning Focus: Mission and Outreach \nMid-Day Focus: Our Nation and Community \nEvening Focus: Family and Friends \nMore information at http://nationaldayofprayer.org/
URL:https://nccsfl.org/event/national-day-of-prayer/
LOCATION:WA
CATEGORIES:Community Event
END:VEVENT
BEGIN:VEVENT
DTSTART;TZID=America/Vancouver:20140429T180000
DTEND;TZID=America/Vancouver:20140429T210000
DTSTAMP:20260422T005200
CREATED:20140428T032751Z
LAST-MODIFIED:20140428T032751Z
UID:168-1398794400-1398805200@nccsfl.org
SUMMARY:First Games of the 2014 Season
DESCRIPTION:The season has started! Let’s do this! \nRemember to report final scores to scores@nccsfl.org \nStandings will be posted at http://www.nccsfl.org/softball/standings/
URL:https://nccsfl.org/event/first-games-of-the-2014-season/
LOCATION:WA
CATEGORIES:Softball
END:VEVENT
BEGIN:VEVENT
DTSTART;TZID=America/Vancouver:20140426T090000
DTEND;TZID=America/Vancouver:20140426T110000
DTSTAMP:20260422T005200
CREATED:20140419T131623Z
LAST-MODIFIED:20140419T131623Z
UID:145-1398502800-1398510000@nccsfl.org
SUMMARY:Twin Rivers Work Party 2014
DESCRIPTION:Remember work party Saturday the 26th at Twin Rivers at 9:00 A.M. Umpire clinic at work parties for those interested. Thank-you and hope to see you at the work parties.
URL:https://nccsfl.org/event/twin-rivers-work-party-2014/
LOCATION:Twin Rivers County Park\, Twin Rivers County Park\, Highway 530\, Arington\, WA\, 98223\, United States
CATEGORIES:Work Party
END:VEVENT
BEGIN:VEVENT
DTSTART;TZID=America/Vancouver:20140419T090000
DTEND;TZID=America/Vancouver:20140419T110000
DTSTAMP:20260422T005200
CREATED:20140419T131520Z
LAST-MODIFIED:20140419T131520Z
UID:143-1397898000-1397905200@nccsfl.org
SUMMARY:Work Party Klein Field 2014
DESCRIPTION:Remember work party at Klein at 9:00 A.M. and the following Saturday the 26th at Twin Rivers at 9:00 A.M. Umpire clinic after work parties for those interested. Thank-you and hope to see you at the work parties.
URL:https://nccsfl.org/event/work-party-klein-field-2014/
LOCATION:Klein Fields\, 6101 152nd St Ne\, Marysville\, WA\, 98271\, United States
CATEGORIES:Work Party
END:VEVENT
BEGIN:VEVENT
DTSTART;TZID=America/Vancouver:20140412T090000
DTEND;TZID=America/Vancouver:20140412T103000
DTSTAMP:20260422T005200
CREATED:20140411T173306Z
LAST-MODIFIED:20140411T173911Z
UID:138-1397293200-1397298600@nccsfl.org
SUMMARY:2014 Softball Meeting #3
DESCRIPTION:Our third league meeting will be on Saturday\,  April 12\, 2014 at Arlington Gospel Hall at 9:00 A.M.  \nSoftball League Fees of $500 per team is due this day! Download and Sign your Forms and Fees \nRSVP on Facebook \n Please try and have a representative from each team there so we know which teams are returning. We do know that there are few not returning\, so if you know of any churches that would like to join the league\, please invite them. Also\, if your team isn’t returning and you want to play make sure to come to the meeting. Thanks and hope to see you there.
URL:https://nccsfl.org/event/2014-softball-meeting-3/
LOCATION:Arlington Gospel Hall\, 323 S Stillaguamish Ave\, Arlington\, WA\, 98223\, United States
CATEGORIES:League Meeting
END:VEVENT
BEGIN:VEVENT
DTSTART;TZID=America/Vancouver:20140308T090000
DTEND;TZID=America/Vancouver:20140308T103000
DTSTAMP:20260422T005200
CREATED:20140307T142515Z
LAST-MODIFIED:20140307T142515Z
UID:132-1394269200-1394274600@nccsfl.org
SUMMARY:2014 Softball Meeting #2
DESCRIPTION:Our second league meeting will be on Saturday\,  March 8\, 2014 at the Arlington Assembly of God at 9:00 A.M.  Please enter at the south entrance.  Please try and have a representative from each team there so we know which teams are returning. We do know that there are few not returning\, so if you know of any churches that would like to join the league\, please invite them. Also\, if your team isn’t returning and you want to play make sure to come to the meeting. Thanks and hope to see you there. \nRSVP on Facebook
URL:https://nccsfl.org/event/2014-softball-meeting-2/
LOCATION:Assembly of God Arlington\, 201 N Stillaguamish Ave\, Arlington\, WA\, 98223\, United States
CATEGORIES:League Meeting
END:VEVENT
BEGIN:VEVENT
DTSTART;TZID=America/Vancouver:20140201T090000
DTEND;TZID=America/Vancouver:20140201T104500
DTSTAMP:20260422T005200
CREATED:20140125T200547Z
LAST-MODIFIED:20140125T203126Z
UID:109-1391245200-1391251500@nccsfl.org
SUMMARY:2014 Softball Meeting #1
DESCRIPTION:Welcome to 2014. Our first league meeting will be on Saturday\,  February 1\, 2014 at the Arlington Gospel Hall at 9:00 A.M. Hope to see everyone there\, please spread the word. \nRSVP on Facebook
URL:https://nccsfl.org/event/2014-softball-meeting-1/
LOCATION:Arlington Gospel Hall\, 323 S Stillaguamish Ave\, Arlington\, WA\, 98223\, United States
CATEGORIES:League Meeting
END:VEVENT
BEGIN:VEVENT
DTSTART;VALUE=DATE:20120505
DTEND;VALUE=DATE:20120506
DTSTAMP:20260422T005200
CREATED:20120503T063122Z
LAST-MODIFIED:20120503T063122Z
UID:61-1336176000-1336262399@nccsfl.org
SUMMARY:CAREfest 2012
DESCRIPTION:Community Acts Reaching Everyone — Churches and individuals get together\, partner with local community groups\, and serve in practical ways. \nCAREfest 2012 is May 5! Get your Youth Group or team together and help your community. Sign Ups are online at www.CAREfestSnoCo.org
URL:https://nccsfl.org/event/carefest-2012/
LOCATION:Snohomish Community Church\, 13622 Dubuque\, Snohomish\, WA\, 98290\, United States
CATEGORIES:Community Event
END:VEVENT
BEGIN:VEVENT
DTSTART;TZID=America/Vancouver:20120428T090000
DTEND;TZID=America/Vancouver:20120428T140059
DTSTAMP:20260422T005200
CREATED:20120503T062458Z
LAST-MODIFIED:20120503T062557Z
UID:56-1335603600-1335621659@nccsfl.org
SUMMARY:Softball Work Party #2
DESCRIPTION:We asked that every one meet at Twin Rivers at 9:00 AM.\nAlso an umpires clinic at 1:00 PM. \nWe are planning on having 10 yards of infield mix to spread at Twin Rivers. We need at least two players from each team and bring tools\, rakes\, shovels and wheelbarrows as we have ten yards of infield mix to move by hand. We need a better turn out than we had this week or the work won’t get done. The more hands the better. Also because we had so few there last weekend\, the umpires clinic will be at 1:00 PM
URL:https://nccsfl.org/event/softball-work-party-2-2012/
LOCATION:Twin Rivers County Park\, Twin Rivers County Park\, Highway 530\, Arington\, WA\, 98223\, United States
CATEGORIES:Work Party
END:VEVENT
END:VCALENDAR