BEGIN:VCALENDAR
VERSION:2.0
PRODID:-//North Counties Christian Sports Fellowship League - ECPv6.15.20//NONSGML v1.0//EN
CALSCALE:GREGORIAN
METHOD:PUBLISH
X-WR-CALNAME:North Counties Christian Sports Fellowship League
X-ORIGINAL-URL:https://nccsfl.org
X-WR-CALDESC:Events for North Counties Christian Sports Fellowship League
REFRESH-INTERVAL;VALUE=DURATION:PT1H
X-Robots-Tag:noindex
X-PUBLISHED-TTL:PT1H
BEGIN:VTIMEZONE
TZID:America/Vancouver
BEGIN:DAYLIGHT
TZOFFSETFROM:-0800
TZOFFSETTO:-0700
TZNAME:PDT
DTSTART:20250309T100000
END:DAYLIGHT
BEGIN:STANDARD
TZOFFSETFROM:-0700
TZOFFSETTO:-0800
TZNAME:PST
DTSTART:20251102T090000
END:STANDARD
BEGIN:DAYLIGHT
TZOFFSETFROM:-0800
TZOFFSETTO:-0700
TZNAME:PDT
DTSTART:20260308T100000
END:DAYLIGHT
BEGIN:STANDARD
TZOFFSETFROM:-0700
TZOFFSETTO:-0800
TZNAME:PST
DTSTART:20261101T090000
END:STANDARD
BEGIN:DAYLIGHT
TZOFFSETFROM:-0800
TZOFFSETTO:-0700
TZNAME:PDT
DTSTART:20270314T100000
END:DAYLIGHT
BEGIN:STANDARD
TZOFFSETFROM:-0700
TZOFFSETTO:-0800
TZNAME:PST
DTSTART:20271107T090000
END:STANDARD
END:VTIMEZONE
BEGIN:VEVENT
DTSTART;TZID=America/Vancouver:20260502T083000
DTEND;TZID=America/Vancouver:20260502T170000
DTSTAMP:20260421T111841
CREATED:20260308T232741Z
LAST-MODIFIED:20260308T232839Z
UID:1879-1777710600-1777741200@nccsfl.org
SUMMARY:2026 Softball Jamboree
DESCRIPTION:Date: May 2\, 2026\nLocation: Skagit Valley Playfields (Mount Vernon) \nDetails:\n● Team attendance deadline: April 18\n● Coffee & donuts provided\n● Game times: All teams are to be at the field and ready by 8:30AM at the latest unless approved\nby the jamboree coordinator.\no 9:00AM\, 10:00 AM – Lunch break & mid-day field switch and mix up teams- 12:00 PM\, 1:00\nPM\, 2:00PM\, 3:00PM – teams are not to leave at 3 unless dismissed by the Jamboree\ncoordinator.\n● 5-inning games (1 hour)\n● Teams rotate between playing\, umpiring\, and field duties
URL:https://nccsfl.org/event/2026-softball-jamboree/
LOCATION:Skagit Valley Playfields\, 2700 Martin Rd\, Mount Vernon\, WA\, 982723\, United States
CATEGORIES:Jamboree,Softball
ATTACH;FMTTYPE=image/jpeg:https://nccsfl.org/wp-content/uploads/IMG_7130_tonemapped.jpg
END:VEVENT
BEGIN:VEVENT
DTSTART;TZID=America/Vancouver:20260711T080000
DTEND;TZID=America/Vancouver:20260711T140000
DTSTAMP:20260421T111841
CREATED:20260308T233829Z
LAST-MODIFIED:20260308T233829Z
UID:1888-1783756800-1783778400@nccsfl.org
SUMMARY:2026 Softball All-Star Game
DESCRIPTION:More details to come in May
URL:https://nccsfl.org/event/2026-softball-all-star-game/
LOCATION:Henry M. Jackson Park\, 3302 18th St\, Everett\, WA\, 98201\, United States
CATEGORIES:All-Star Game,Softball
ATTACH;FMTTYPE=image/jpeg:https://nccsfl.org/wp-content/uploads/softball-asg-2009-teams.jpg
END:VEVENT
END:VCALENDAR