BEGIN:VCALENDAR
VERSION:2.0
PRODID:-//North Counties Christian Sports Fellowship League - ECPv6.15.20//NONSGML v1.0//EN
CALSCALE:GREGORIAN
METHOD:PUBLISH
X-ORIGINAL-URL:https://nccsfl.org
X-WR-CALDESC:Events for North Counties Christian Sports Fellowship League
REFRESH-INTERVAL;VALUE=DURATION:PT1H
X-Robots-Tag:noindex
X-PUBLISHED-TTL:PT1H
BEGIN:VTIMEZONE
TZID:America/Vancouver
BEGIN:DAYLIGHT
TZOFFSETFROM:-0800
TZOFFSETTO:-0700
TZNAME:PDT
DTSTART:20130310T100000
END:DAYLIGHT
BEGIN:STANDARD
TZOFFSETFROM:-0700
TZOFFSETTO:-0800
TZNAME:PST
DTSTART:20131103T090000
END:STANDARD
BEGIN:DAYLIGHT
TZOFFSETFROM:-0800
TZOFFSETTO:-0700
TZNAME:PDT
DTSTART:20140309T100000
END:DAYLIGHT
BEGIN:STANDARD
TZOFFSETFROM:-0700
TZOFFSETTO:-0800
TZNAME:PST
DTSTART:20141102T090000
END:STANDARD
BEGIN:DAYLIGHT
TZOFFSETFROM:-0800
TZOFFSETTO:-0700
TZNAME:PDT
DTSTART:20150308T100000
END:DAYLIGHT
BEGIN:STANDARD
TZOFFSETFROM:-0700
TZOFFSETTO:-0800
TZNAME:PST
DTSTART:20151101T090000
END:STANDARD
BEGIN:DAYLIGHT
TZOFFSETFROM:-0800
TZOFFSETTO:-0700
TZNAME:PDT
DTSTART:20160313T100000
END:DAYLIGHT
BEGIN:STANDARD
TZOFFSETFROM:-0700
TZOFFSETTO:-0800
TZNAME:PST
DTSTART:20161106T090000
END:STANDARD
BEGIN:DAYLIGHT
TZOFFSETFROM:-0800
TZOFFSETTO:-0700
TZNAME:PDT
DTSTART:20170312T100000
END:DAYLIGHT
BEGIN:STANDARD
TZOFFSETFROM:-0700
TZOFFSETTO:-0800
TZNAME:PST
DTSTART:20171105T090000
END:STANDARD
BEGIN:DAYLIGHT
TZOFFSETFROM:-0800
TZOFFSETTO:-0700
TZNAME:PDT
DTSTART:20180311T100000
END:DAYLIGHT
BEGIN:STANDARD
TZOFFSETFROM:-0700
TZOFFSETTO:-0800
TZNAME:PST
DTSTART:20181104T090000
END:STANDARD
BEGIN:DAYLIGHT
TZOFFSETFROM:-0800
TZOFFSETTO:-0700
TZNAME:PDT
DTSTART:20190310T100000
END:DAYLIGHT
BEGIN:STANDARD
TZOFFSETFROM:-0700
TZOFFSETTO:-0800
TZNAME:PST
DTSTART:20191103T090000
END:STANDARD
BEGIN:DAYLIGHT
TZOFFSETFROM:-0800
TZOFFSETTO:-0700
TZNAME:PDT
DTSTART:20200308T100000
END:DAYLIGHT
BEGIN:STANDARD
TZOFFSETFROM:-0700
TZOFFSETTO:-0800
TZNAME:PST
DTSTART:20201101T090000
END:STANDARD
BEGIN:DAYLIGHT
TZOFFSETFROM:-0800
TZOFFSETTO:-0700
TZNAME:PDT
DTSTART:20210314T100000
END:DAYLIGHT
BEGIN:STANDARD
TZOFFSETFROM:-0700
TZOFFSETTO:-0800
TZNAME:PST
DTSTART:20211107T090000
END:STANDARD
BEGIN:DAYLIGHT
TZOFFSETFROM:-0800
TZOFFSETTO:-0700
TZNAME:PDT
DTSTART:20220313T100000
END:DAYLIGHT
BEGIN:STANDARD
TZOFFSETFROM:-0700
TZOFFSETTO:-0800
TZNAME:PST
DTSTART:20221106T090000
END:STANDARD
BEGIN:DAYLIGHT
TZOFFSETFROM:-0800
TZOFFSETTO:-0700
TZNAME:PDT
DTSTART:20230312T100000
END:DAYLIGHT
BEGIN:STANDARD
TZOFFSETFROM:-0700
TZOFFSETTO:-0800
TZNAME:PST
DTSTART:20231105T090000
END:STANDARD
END:VTIMEZONE
BEGIN:VEVENT
DTSTART;TZID=America/Vancouver:20220312T090000
DTEND;TZID=America/Vancouver:20220312T110000
DTSTAMP:20260421T161457
CREATED:20220308T144518Z
LAST-MODIFIED:20220320T223310Z
UID:1383-1647075600-1647082800@nccsfl.org
SUMMARY:2022 Softball League Meeting #2 via Zoom
DESCRIPTION:We will continue our discussion to start the softball league this season\, how many teams we need minimum and what fields we will be playing at. \nPlease join us Saturday\, March 12th at 9am via ZOOM virtual meeting thanks to Calvary Everett. \nZoom Link: https://us02web.zoom.us/j/85297310763?pwd=QWo1T0VPeTVkOHhWZHdOUE10MlRrQT09 \nMeeting ID: 852 9731 0763\nPasscode: 425941 \nOne tap mobile\n+12532158782\,\,85297310763#\,\,\,\,*425941# US (Tacoma) \nDial by your location\n+1 253 215 8782 US (Tacoma)
URL:https://nccsfl.org/event/2022-softball-league-meeting-2-via-zoom/
CATEGORIES:League Meeting,Softball
END:VEVENT
BEGIN:VEVENT
DTSTART;TZID=America/Vancouver:20220226T090000
DTEND;TZID=America/Vancouver:20220226T110000
DTSTAMP:20260421T161457
CREATED:20220219T204246Z
LAST-MODIFIED:20220219T213628Z
UID:1371-1645866000-1645873200@nccsfl.org
SUMMARY:2022 Softball League Meeting #1
DESCRIPTION:We have had two years without NCCSFL Softball. It has been far too long and we miss the fun and fellowship. We need to find out if there is still enough interest to try and get the league going again. \nWe will have a meeting on February 26\, 2022 at 9:00 AM at the Arlington Gospel Hall. Please email softball@nccsfl.org OR RSVP on the Facebook Event to know if you will be able to make the meeting. Also if you know of others or of other churches who might want to join the league please invite them. \nThanks for your interest and looking forward to seeing everyone again. \nIn Christ\, Eric Mitzelfeldt
URL:https://nccsfl.org/event/2022-softball-league-meeting-1/
LOCATION:Arlington Gospel Hall\, 323 S Stillaguamish Ave\, Arlington\, WA\, 98223\, United States
CATEGORIES:League Meeting,Softball
ATTACH;FMTTYPE=image/jpeg:https://nccsfl.org/wp-content/uploads/IMG_7130_tonemapped.jpg
END:VEVENT
BEGIN:VEVENT
DTSTART;TZID=America/Vancouver:20210501T090000
DTEND;TZID=America/Vancouver:20210501T103000
DTSTAMP:20260421T161457
CREATED:20210327T235421Z
LAST-MODIFIED:20210422T063949Z
UID:1338-1619859600-1619865000@nccsfl.org
SUMMARY:2021 Virtual Softball League Meeting #3
DESCRIPTION:Check recap of Softball Meeting #2 Updates\nPlease email softball@nccsf.org if your team is interested in playing this season.\nWA COVID-19 Phase 3 Guidelines for Sports\nPlan is to have Twin Rivers work party beginning on May specific date TBD\nLeague year start date of June 1st.\nNext league meeting Saturday May 1st at 9am.\n\n  \nVirtual Meeting Link: https://meet.google.com/ujp-qxcq-phn (Google Meet via web browser or mobile app)
URL:https://nccsfl.org/event/2021-virtual-softball-league-meeting-3/
CATEGORIES:League Meeting,Softball
END:VEVENT
BEGIN:VEVENT
DTSTART;TZID=America/Vancouver:20210327T090000
DTEND;TZID=America/Vancouver:20210327T100000
DTSTAMP:20260421T161457
CREATED:20210228T181824Z
LAST-MODIFIED:20210327T154450Z
UID:1319-1616835600-1616839200@nccsfl.org
SUMMARY:2021 Virtual Softball League Meeting #2
DESCRIPTION:Check recap of Softball Meeting #1 Updates\nPlease email softball@nccsf.org if your team is interested in playing this season.\nWA COVID-19 Phase 3 Guidelines for Sports\nField Updates\n\n  \nVirtual Meeting Link: https://meet.google.com/gww-hbjk-ksh (Google Meet via web browser or mobile app)
URL:https://nccsfl.org/event/2021-virtual-softball-league-meeting-2/
CATEGORIES:League Meeting,Softball
END:VEVENT
BEGIN:VEVENT
DTSTART;TZID=America/Vancouver:20210227T090000
DTEND;TZID=America/Vancouver:20210227T110000
DTSTAMP:20260421T161457
CREATED:20210210T082130Z
LAST-MODIFIED:20210228T181336Z
UID:1313-1614416400-1614423600@nccsfl.org
SUMMARY:2021 Virtual Softball League Meeting #1
DESCRIPTION:We are getting questions about the 2021 Softball Season and monitoring local Snohomish County Health District COVID guidelines\, so now is a good time to join us virtually for this first meeting to say HI as we miss you all. We will chat about the current restrictions on sports and group gatherings\, along with timelines for optional events in the future. \nVirtual Meeting Link: https://meet.google.com/jop-gztc-qhb (Google Meet via web browser or mobile app)
URL:https://nccsfl.org/event/2021-virtual-softball-league-meeting/
CATEGORIES:League Meeting,Softball
END:VEVENT
BEGIN:VEVENT
DTSTART;TZID=America/Vancouver:20190413T080000
DTEND;TZID=America/Vancouver:20190413T100000
DTSTAMP:20260421T161457
CREATED:20190324T161921Z
LAST-MODIFIED:20190405T042828Z
UID:1121-1555142400-1555149600@nccsfl.org
SUMMARY:2019 Softball League Meeting #2
DESCRIPTION:Meeting TODO: \n\nTeam Registration results\nTeam Deposits\nTeam League fee $600\nRules and Umpire Clinics\nLooking for at least 2 commissioners\n\nSoftball League Meeting Notes 3/23 Highlights: \n\nNo more Klein\, now Henry M. Jackson Fields in North Everett\nNeed 2 commissioner nominations!\nDeadline for Teams & Non-refundable $100 deposit: April 6\nSchedule and next meeting April 13\n\nThis April 13 meeting will cover schedule and team finalization\, plus if any rules for review will be needed. \nPlease make sure make checks payable to “NCCSFL” for the $100 deposit. \nRSVP to meeting on Facebook
URL:https://nccsfl.org/event/2019-softball-league-meeting-2/
LOCATION:Arlington Gospel Hall\, 323 S Stillaguamish Ave\, Arlington\, WA\, 98223\, United States
CATEGORIES:League Meeting
END:VEVENT
BEGIN:VEVENT
DTSTART;TZID=America/Vancouver:20190323T080000
DTEND;TZID=America/Vancouver:20190323T103000
DTSTAMP:20260421T161457
CREATED:20190305T212240Z
LAST-MODIFIED:20190315T211652Z
UID:1108-1553328000-1553337000@nccsfl.org
SUMMARY:2019 Softball League Meeting #1
DESCRIPTION:Our first league meeting for 2019 at Arlington Gospel Hall! Come join us to discuss the new season ahead. Any questions or if a new church is wanting to join\, please email softball@nccsfl.org \n\n\n\nDeposit due $100.00 on or before 4/5/19\nBalance of $400.00 due TBD\n\nTotal league fees are $500.00 for 22 league games and a minimum of 3 tournament games.\n\n\n\n\n\nTeams: Please Make sure to download and have your team sign the Softball Forms
URL:https://nccsfl.org/event/2019-softball-league-meeting-1/
LOCATION:Arlington Gospel Hall\, 323 S Stillaguamish Ave\, Arlington\, WA\, 98223\, United States
CATEGORIES:League Meeting
END:VEVENT
BEGIN:VEVENT
DTSTART;TZID=America/Vancouver:20180929T090000
DTEND;TZID=America/Vancouver:20180929T110000
DTSTAMP:20260421T161457
CREATED:20180506T162721Z
LAST-MODIFIED:20180917T231518Z
UID:931-1538211600-1538218800@nccsfl.org
SUMMARY:2018 Post Season League Meeting
DESCRIPTION:**UPDATE** Saturday\, Sept. 29th 9:00am is the end-of-season League meeting at Arlington Gospel Hall. Come please bring feedback and thoughts about this past season\, scheduling\, rules and tournament.
URL:https://nccsfl.org/event/2018-post-season-league-meeting/
LOCATION:Arlington Gospel Hall\, 323 S Stillaguamish Ave\, Arlington\, WA\, 98223\, United States
CATEGORIES:League Meeting
END:VEVENT
BEGIN:VEVENT
DTSTART;TZID=America/Vancouver:20180421T090000
DTEND;TZID=America/Vancouver:20180421T103000
DTSTAMP:20260421T161457
CREATED:20180330T064700Z
LAST-MODIFIED:20180330T064700Z
UID:890-1524301200-1524306600@nccsfl.org
SUMMARY:2018 Softball League Meeting #3
DESCRIPTION:Softball League Meeting #3 is Saturday\, April 21 at 9:00am at SPCC in the D building. Remaining team fee of $450 (of $550) is due on or before this date. Checks can be made out to NCCSFL. \nPlease also make sure to download and have your team sign the Softball Waiver Forms. Any questions please email softball@nccsfl.org 
URL:https://nccsfl.org/event/2018-softball-league-meeting-3/
LOCATION:Smokey Point Community Church\, 17721 Smokey Point Blvd\, Arlington\, WA\, 98223\, United States
CATEGORIES:League Meeting
END:VEVENT
BEGIN:VEVENT
DTSTART;TZID=America/Vancouver:20180310T090000
DTEND;TZID=America/Vancouver:20180310T103000
DTSTAMP:20260421T161457
CREATED:20180227T033228Z
LAST-MODIFIED:20180330T064720Z
UID:860-1520672400-1520677800@nccsfl.org
SUMMARY:2018 Softball League Meeting #2
DESCRIPTION:Our second league meeting for 2018 at Smokey Point Community Church! We’ll be in the D building. Come join us to discuss the new season ahead. Any questions or if a new church is wanting to join\, please email softball@nccsfl.org \n\n\n\nDeposit due $100.00 on or before 03/10/18\nBalance due 04/21/18\n\n22 league games and a minimum of 3 tournament games.\n\n\n\n\n\nCoaches: Register your team online .You must register your team online in order to play in the 2018 season. This online Registration + $100 deposit is due on or before the 2nd league meeting on 3/10/2018. Please also make sure to download and have your team sign the Softball Waiver Forms.
URL:https://nccsfl.org/event/2018-softball-league-meeting-2/
LOCATION:Smokey Point Community Church\, 17721 Smokey Point Blvd\, Arlington\, WA\, 98223\, United States
CATEGORIES:League Meeting
ATTACH;FMTTYPE=image/jpeg:https://nccsfl.org/wp-content/uploads/IMG_8942_NCCSFL.jpg
END:VEVENT
BEGIN:VEVENT
DTSTART;TZID=America/Vancouver:20180203T090000
DTEND;TZID=America/Vancouver:20180203T103000
DTSTAMP:20260421T161457
CREATED:20180122T042844Z
LAST-MODIFIED:20180122T042855Z
UID:848-1517648400-1517653800@nccsfl.org
SUMMARY:2018 Softball League Meeting #1
DESCRIPTION:Our first league meeting for 2018 at Word of Life in Marysville! Come join us to discuss the new season ahead. Any questions or if a new church is wanting to join\, please email softball@nccsfl.org \n\n\n\nDeposit due $100.00 on or before 03/17/18\nBalance of $400.00 due 04/21/18\n\nTotal league fees are $500.00 for 22 league games and a minimum of 3 tournament games.\n\n\n\n\n\nTeams: Please Make sure to download and have your team sign the Softball Forms
URL:https://nccsfl.org/event/2018-softball-league-meeting-1/
LOCATION:Word of Life Marysville\, 9028 51st Ave NE\, Marysville\, WA\, 98270\, United States
CATEGORIES:League Meeting
END:VEVENT
BEGIN:VEVENT
DTSTART;TZID=America/Vancouver:20170318T090000
DTEND;TZID=America/Vancouver:20170318T103000
DTSTAMP:20260421T161457
CREATED:20170221T044851Z
LAST-MODIFIED:20170221T054630Z
UID:546-1489827600-1489833000@nccsfl.org
SUMMARY:2017 League Meeting #2
DESCRIPTION:Our second league meeting for 2017! Come join us to discuss the new season ahead. REMINDER: Deposit of $100 is due on or before this date! Checks can be made payable to NCCSFL. \nAny questions or if a new church is wanting to join\, please email softball@nccsfl.org \nOther Upcoming Dates:\n– Work party 04/22/17 at 9:00AM Klein Fields (Umpire Clinic will immediately follow)\n– Umpire clinic Tues 04/25/17 6:30pm at Twin Rivers\n– Work party 04/29/17 at 9:00AM Klein Fields (if needed)\n– First games are 05/02/17 and 05/04/17\n– Tournament August 3-5\, 2017 \nPLEASE NOTE: At least one plate umpire from each team is required to attend a minimum of 1 Umpire Clinic this year\, or a penalty of $75 per team will be assessed. This is to ensure consistency in umpiring.  \n– Deposit due $100.00 on or before 03/18/17\n– Balance of $400.00 due 04/22/17\n… Total league fees are $500.00 for 22 league games and a minimum of 3 tournament games. \nTeams: Please Make sure to download and have your team sign the Softball Forms http://www.nccsfl.org/softball/#forms
URL:https://nccsfl.org/event/2017-league-meeting-2/
LOCATION:Arlington Gospel Hall\, 323 S Stillaguamish Ave\, Arlington\, WA\, 98223\, United States
CATEGORIES:League Meeting
END:VEVENT
BEGIN:VEVENT
DTSTART;TZID=America/Vancouver:20170211T090000
DTEND;TZID=America/Vancouver:20170211T103000
DTSTAMP:20260421T161457
CREATED:20170105T211445Z
LAST-MODIFIED:20180122T042940Z
UID:537-1486803600-1486809000@nccsfl.org
SUMMARY:2017 Softball League Meeting #1
DESCRIPTION:Our first league meeting for 2017! Come join us to discuss the new season ahead. Any questions or if a new church is wanting to join\, please email softball@nccsfl.org \nOther Upcoming Dates:\n– First Games are May 2nd/4th\n– Tourney August 3-5\n– League meeting Feb 11 & Mar 18\n– Work party April 15 & 22
URL:https://nccsfl.org/event/2017-softball-league-meeting-1/
LOCATION:Arlington Gospel Hall\, 323 S Stillaguamish Ave\, Arlington\, WA\, 98223\, United States
CATEGORIES:League Meeting
END:VEVENT
BEGIN:VEVENT
DTSTART;TZID=America/Vancouver:20160206T080000
DTEND;TZID=America/Vancouver:20160206T093000
DTSTAMP:20260421T161457
CREATED:20160202T173501Z
LAST-MODIFIED:20160202T173626Z
UID:367-1454745600-1454751000@nccsfl.org
SUMMARY:2016 Softball Commissioner Meeting
DESCRIPTION:2016 is here and so means softball around the corner! Commissioners meeting will be held Saturday\, Feb. 6 @ 8am at Marysville Haggen’s. Coaches are also welcome to join and discuss ideas for the upcoming season.
URL:https://nccsfl.org/event/2016-softball-comm-meeting/
LOCATION:Marysville Haggen\, 3711 88th St NE\, Marysville\, WA\, 98270\, United States
CATEGORIES:League Meeting
END:VEVENT
BEGIN:VEVENT
DTSTART;TZID=America/Vancouver:20151120T190000
DTEND;TZID=America/Vancouver:20151120T203000
DTSTAMP:20260421T161457
CREATED:20151119T165832Z
LAST-MODIFIED:20151119T165832Z
UID:365-1448046000-1448051400@nccsfl.org
SUMMARY:NCCSFL 2015 Post-Season Meeting
DESCRIPTION:Please bring feedback about this past season and any new ideas that we can look forward to in the 2016 season!
URL:https://nccsfl.org/event/nccsfl-2015-post-season-meeting/
LOCATION:Arlington Gospel Hall\, 323 S Stillaguamish Ave\, Arlington\, WA\, 98223\, United States
CATEGORIES:League Meeting
END:VEVENT
BEGIN:VEVENT
DTSTART;TZID=America/Vancouver:20150321T090000
DTEND;TZID=America/Vancouver:20150321T103000
DTSTAMP:20260421T161457
CREATED:20150308T220855Z
LAST-MODIFIED:20150314T221041Z
UID:300-1426928400-1426933800@nccsfl.org
SUMMARY:2015 Softball Meeting #2
DESCRIPTION:Next league meeting on March 21st at 9:00 @ Gospel Hall. League fees or at least $100.00 non-refundable deposit are due so the schedule can start being worked on. If you know of other teams wanting to play\, please let them know also. We have room for a few teams. See you there. \n– League starts April 28th\n– Need to turn in waivers prior to first game.\n– League fees are $500\n– Have $100 deposit by March 21st. If no deposit by the 21st then the league fees becomes $550 \nCan mail in league fees:\nNCCSFL\nPO Box 505\nArlington\, WA 98223 \nDownload the Softball League Forms at http://www.nccsfl.org/softball/#forms \n  \nRSVP on Facebook
URL:https://nccsfl.org/event/2015-softball-meeting-2/
LOCATION:Arlington Gospel Hall\, 323 S Stillaguamish Ave\, Arlington\, WA\, 98223\, United States
CATEGORIES:League Meeting
END:VEVENT
BEGIN:VEVENT
DTSTART;TZID=America/Vancouver:20150207T090000
DTEND;TZID=America/Vancouver:20150207T104500
DTSTAMP:20260421T161457
CREATED:20150130T141234Z
LAST-MODIFIED:20150130T143401Z
UID:291-1423299600-1423305900@nccsfl.org
SUMMARY:2015 Softball Meeting #1
DESCRIPTION:2015 is here.. and that means Softball is around the corner! Our first league meeting will be on Saturday\,  February 7\, 2015 at the Arlington Gospel Hall at 9:00 A.M. Hope to see everyone there\, please spread the word. \nDownload the Softball League Forms at http://www.nccsfl.org/softball/#forms \n  \nRSVP on Facebook
URL:https://nccsfl.org/event/2015-softball-meeting-1/
LOCATION:Arlington Gospel Hall\, 323 S Stillaguamish Ave\, Arlington\, WA\, 98223\, United States
CATEGORIES:League Meeting
END:VEVENT
BEGIN:VEVENT
DTSTART;TZID=America/Vancouver:20140412T090000
DTEND;TZID=America/Vancouver:20140412T103000
DTSTAMP:20260421T161457
CREATED:20140411T173306Z
LAST-MODIFIED:20140411T173911Z
UID:138-1397293200-1397298600@nccsfl.org
SUMMARY:2014 Softball Meeting #3
DESCRIPTION:Our third league meeting will be on Saturday\,  April 12\, 2014 at Arlington Gospel Hall at 9:00 A.M.  \nSoftball League Fees of $500 per team is due this day! Download and Sign your Forms and Fees \nRSVP on Facebook \n Please try and have a representative from each team there so we know which teams are returning. We do know that there are few not returning\, so if you know of any churches that would like to join the league\, please invite them. Also\, if your team isn’t returning and you want to play make sure to come to the meeting. Thanks and hope to see you there.
URL:https://nccsfl.org/event/2014-softball-meeting-3/
LOCATION:Arlington Gospel Hall\, 323 S Stillaguamish Ave\, Arlington\, WA\, 98223\, United States
CATEGORIES:League Meeting
END:VEVENT
BEGIN:VEVENT
DTSTART;TZID=America/Vancouver:20140308T090000
DTEND;TZID=America/Vancouver:20140308T103000
DTSTAMP:20260421T161457
CREATED:20140307T142515Z
LAST-MODIFIED:20140307T142515Z
UID:132-1394269200-1394274600@nccsfl.org
SUMMARY:2014 Softball Meeting #2
DESCRIPTION:Our second league meeting will be on Saturday\,  March 8\, 2014 at the Arlington Assembly of God at 9:00 A.M.  Please enter at the south entrance.  Please try and have a representative from each team there so we know which teams are returning. We do know that there are few not returning\, so if you know of any churches that would like to join the league\, please invite them. Also\, if your team isn’t returning and you want to play make sure to come to the meeting. Thanks and hope to see you there. \nRSVP on Facebook
URL:https://nccsfl.org/event/2014-softball-meeting-2/
LOCATION:Assembly of God Arlington\, 201 N Stillaguamish Ave\, Arlington\, WA\, 98223\, United States
CATEGORIES:League Meeting
END:VEVENT
BEGIN:VEVENT
DTSTART;TZID=America/Vancouver:20140201T090000
DTEND;TZID=America/Vancouver:20140201T104500
DTSTAMP:20260421T161457
CREATED:20140125T200547Z
LAST-MODIFIED:20140125T203126Z
UID:109-1391245200-1391251500@nccsfl.org
SUMMARY:2014 Softball Meeting #1
DESCRIPTION:Welcome to 2014. Our first league meeting will be on Saturday\,  February 1\, 2014 at the Arlington Gospel Hall at 9:00 A.M. Hope to see everyone there\, please spread the word. \nRSVP on Facebook
URL:https://nccsfl.org/event/2014-softball-meeting-1/
LOCATION:Arlington Gospel Hall\, 323 S Stillaguamish Ave\, Arlington\, WA\, 98223\, United States
CATEGORIES:League Meeting
END:VEVENT
END:VCALENDAR